BEGIN:VCALENDAR
VERSION:2.0
PRODID:-//PMO INDONESIA - ECPv6.10.1.1//NONSGML v1.0//EN
CALSCALE:GREGORIAN
METHOD:PUBLISH
X-ORIGINAL-URL:https://pmoindonesia.id
X-WR-CALDESC:Events for PMO INDONESIA
REFRESH-INTERVAL;VALUE=DURATION:PT1H
X-Robots-Tag:noindex
X-PUBLISHED-TTL:PT1H
BEGIN:VTIMEZONE
TZID:Asia/Jakarta
BEGIN:STANDARD
TZOFFSETFROM:+0700
TZOFFSETTO:+0700
TZNAME:WIB
DTSTART:20250101T000000
END:STANDARD
END:VTIMEZONE
BEGIN:VEVENT
DTSTART;TZID=Asia/Jakarta:20250516T190000
DTEND;TZID=Asia/Jakarta:20250516T210000
DTSTAMP:20260420T113702
CREATED:20250923T153055Z
LAST-MODIFIED:20250923T153055Z
UID:323-1747422000-1747429200@pmoindonesia.id
SUMMARY:JUMPA: Celebrating International PMO Day 2025
DESCRIPTION:JUMPa: Celebrating International PMO Day 2025\nDate/Time: 16 May 2025 | 19:00 – 21:00 \nVenue:\nLintasarta Ruang Saparua\nMenara Thamrin (Gedung Arcadia) Lt. 1\nJl. M.H. Thamrin Kav.3 Jakarta 10250 \nLet’s celebrate International PMO Day\, with a lean coffee meeting. \nGather\, build an agenda and begin talking. \nHave something to share?\nGet ready and JUMP to the stage. \nTicket: Minimum Rp 100K (for meal)\nWe appreciate it if you give more \nSampai ber-JUMPA 🙂
URL:https://pmoindonesia.id/event/jumpa-celebrating-international-pmo-day-2025/
LOCATION:Jakarta
CATEGORIES:JUMPA
ORGANIZER;CN="PMO Indonesia":MAILTO:info@pmoindonesia.id
END:VEVENT
END:VCALENDAR