BEGIN:VCALENDAR
VERSION:2.0
PRODID:-//PMO INDONESIA - ECPv6.10.1.1//NONSGML v1.0//EN
CALSCALE:GREGORIAN
METHOD:PUBLISH
X-ORIGINAL-URL:https://pmoindonesia.id
X-WR-CALDESC:Events for PMO INDONESIA
REFRESH-INTERVAL;VALUE=DURATION:PT1H
X-Robots-Tag:noindex
X-PUBLISHED-TTL:PT1H
BEGIN:VTIMEZONE
TZID:Asia/Jakarta
BEGIN:STANDARD
TZOFFSETFROM:+0700
TZOFFSETTO:+0700
TZNAME:WIB
DTSTART:20250101T000000
END:STANDARD
END:VTIMEZONE
BEGIN:VEVENT
DTSTART;TZID=Asia/Jakarta:20250924T170000
DTEND;TZID=Asia/Jakarta:20250924T213000
DTSTAMP:20260420T131709
CREATED:20250923T154335Z
LAST-MODIFIED:20250923T154434Z
UID:332-1758733200-1758749400@pmoindonesia.id
SUMMARY:TEMU Episode 2
DESCRIPTION:TEMU#2 PMO INDONESIA 24 September 2025 \n\nTEMU#2 akan menampilkan diskusi panel yang membahas tentang “The PMO DNA: The Essential Principles and Structure”.  \nIkuti diskusi dari panelis yang merupakan praktisi di bidang PMO. Kenali dan bandingkan DNA PMO Anda agar bisa menjadikannya sebagai Value Driver dan Strategic Partner organisasi. \nMasih tersedia kursi buat Anda. Segera daftar di https://goers.co/ltivw4 \nTempat terbatas. \nYuk keTEMUan.
URL:https://pmoindonesia.id/event/temu-episode-2/
LOCATION:Menara BRILiaN\, Jakarta\, Jakarta\, Indonesia
CATEGORIES:TEMU
ORGANIZER;CN="PMO Indonesia":MAILTO:info@pmoindonesia.id
END:VEVENT
END:VCALENDAR